BEGIN:VCALENDAR
VERSION:2.0
PRODID:-//biz+calendar - ECPv6.15.20//NONSGML v1.0//EN
CALSCALE:GREGORIAN
METHOD:PUBLISH
X-ORIGINAL-URL:https://biz.steffox.de
X-WR-CALDESC:Veranstaltungen für biz+calendar
REFRESH-INTERVAL;VALUE=DURATION:PT1H
X-Robots-Tag:noindex
X-PUBLISHED-TTL:PT1H
BEGIN:VTIMEZONE
TZID:Europe/Berlin
BEGIN:DAYLIGHT
TZOFFSETFROM:+0100
TZOFFSETTO:+0200
TZNAME:CEST
DTSTART:20250330T010000
END:DAYLIGHT
BEGIN:STANDARD
TZOFFSETFROM:+0200
TZOFFSETTO:+0100
TZNAME:CET
DTSTART:20251026T010000
END:STANDARD
BEGIN:DAYLIGHT
TZOFFSETFROM:+0100
TZOFFSETTO:+0200
TZNAME:CEST
DTSTART:20260329T010000
END:DAYLIGHT
BEGIN:STANDARD
TZOFFSETFROM:+0200
TZOFFSETTO:+0100
TZNAME:CET
DTSTART:20261025T010000
END:STANDARD
BEGIN:DAYLIGHT
TZOFFSETFROM:+0100
TZOFFSETTO:+0200
TZNAME:CEST
DTSTART:20270328T010000
END:DAYLIGHT
BEGIN:STANDARD
TZOFFSETFROM:+0200
TZOFFSETTO:+0100
TZNAME:CET
DTSTART:20271031T010000
END:STANDARD
END:VTIMEZONE
BEGIN:VEVENT
DTSTART;TZID=Europe/Berlin:20260313T100000
DTEND;TZID=Europe/Berlin:20260313T170000
DTSTAMP:20260422T034409
CREATED:20251221T091732Z
LAST-MODIFIED:20251227T093059Z
UID:149-1773396000-1773421200@biz.steffox.de
SUMMARY:Ganztagskurs Möbelbau & Polsterei – Ein neues Möbelstück von Grund auf fertigen
DESCRIPTION:Baue und polstere an einem intensiven Ganztagskurs dein eigenes Möbelstück. Von der Konstruktion bis zur fertigen Oberfläche – ein handwerklicher Workshop für kreative Einsteiger:innen und Fortgeschrittene.
URL:https://biz.steffox.de/event/ganztagskurs-moebelbau-polsterei-ein-neues-moebelstueck-von-grund-auf-fertigen/
LOCATION:Ganztagskurs Möbelbau & Polsterei – Ein neues Möbelstück von Grund auf fertigen\, Christian-Albrechts-Platz 4\, Kiel\, 24118\, Germany
ATTACH;FMTTYPE=image/png:https://biz.steffox.de/wp-content/uploads/2025/12/ChatGPT-Image-20.-Dez.-2025-18_38_08.png
END:VEVENT
END:VCALENDAR